BEGIN:VCALENDAR
VERSION:2.0
PRODID:-//wp-events-plugin.com//7.2.1//EN
TZID:America/Vancouver
X-WR-TIMEZONE:America/Vancouver
BEGIN:VEVENT
UID:0-797@3097.bcfoe.com
DTSTART;TZID=America/Vancouver:20260314T193000
DTEND;TZID=America/Vancouver:20260314T234500
DTSTAMP:20260225T161753Z
URL:https://3097.bcfoe.com/events/st-patricks-dance-cr-search-rescue/
SUMMARY:St Patricks Dance/ CR Search & Rescue
DESCRIPTION:Fundraiser Dance for Campbell River Search &amp\; Rescue with\n
 DJ Misko at the Eagles Hall!\nSaturday\, March 14 – 7:30 onwards!!\n\nCo
 me\, have a great night of dancing and fun for a wonderful cause on\nSt Pa
 trick’s Day at the Eagles Hall !!!!\n100% of all funds raised for the Ca
 mpbell River search and rescue Society.\n$20 in advance         $25 a
 t the door.\nDJ Misko in the house to rock the night away.\nEveryone is we
 lcome!\nAny help in spreading the word would be greatly appreciated!\nFor 
 tickets or tickets or questions please contact\nNancy Kolbeins by phone or
  text at 250-203-6840!\nWe can’t wait to dance and have a great night wi
 th all of you!!\nCR Search &amp\; Rescue                      
            St Patricks Dance/ CR Search &amp\; Rescue
LOCATION:Fraternal Order Of Eagles 3097\, 1999\, 14 ave\,\, Campbell River\
 ,\, British Columbia\, V9W 2J6\, Canada
X-APPLE-STRUCTURED-LOCATION;VALUE=URI;X-ADDRESS=1999\, 14 ave\,\, Campbell 
 River\,\, British Columbia\, V9W 2J6\, Canada;X-APPLE-RADIUS=100;X-TITLE=F
 raternal Order Of Eagles 3097:geo:0,0
END:VEVENT
BEGIN:VTIMEZONE
TZID:America/Vancouver
X-LIC-LOCATION:America/Vancouver
BEGIN:DAYLIGHT
DTSTART:20260308T030000
TZOFFSETFROM:-0800
TZOFFSETTO:-0700
TZNAME:PDT
END:DAYLIGHT
END:VTIMEZONE
END:VCALENDAR