BEGIN:VCALENDAR
VERSION:2.0
PRODID:-//wp-events-plugin.com//7.2.1//EN
TZID:America/Vancouver
X-WR-TIMEZONE:America/Vancouver
BEGIN:VEVENT
UID:0-325@3097.bcfoe.com
DTSTART;TZID=America/Vancouver:20260228T140000
DTEND;TZID=America/Vancouver:20260228T190000
DTSTAMP:20260204T200304Z
URL:https://3097.bcfoe.com/events/saturday-music-4-til-7pm-doors-2pm-2026-
 02-28/
SUMMARY:SATURDAY MUSIC  4 til 7pm. Doors 2pm
DESCRIPTION:A variety of performers and genres\, weekly.\n\nJOHNNY AND THE 
 BAND\n]\nPUB STYLE FOOD - WINGS &amp\; THINGS AVAILABLE.  Food orders tak
 en.\n50/50 Tickets will be sold by an Eagle Member … 10 for $5.  Draw a
 t 6pm.\nCome early as seats are limited.  Dress is casual.  Music is awe
 some.\nDancing is encouraged. Come one / come all!\nA wonderful way to spe
 nd a Saturday afternoon.\n
LOCATION:Fraternal Order Of Eagles 3097\, 1999\, 14 ave\,\, Campbell River\
 ,\, British Columbia\, V9W 2J6\, Canada
X-APPLE-STRUCTURED-LOCATION;VALUE=URI;X-ADDRESS=1999\, 14 ave\,\, Campbell 
 River\,\, British Columbia\, V9W 2J6\, Canada;X-APPLE-RADIUS=100;X-TITLE=F
 raternal Order Of Eagles 3097:geo:0,0
END:VEVENT
BEGIN:VTIMEZONE
TZID:America/Vancouver
X-LIC-LOCATION:America/Vancouver
BEGIN:STANDARD
DTSTART:20251102T010000
TZOFFSETFROM:-0700
TZOFFSETTO:-0800
TZNAME:PST
END:STANDARD
END:VTIMEZONE
END:VCALENDAR