BEGIN:VCALENDAR
VERSION:2.0
PRODID:-//wp-events-plugin.com//7.2.1//EN
TZID:America/Vancouver
X-WR-TIMEZONE:America/Vancouver
BEGIN:VEVENT
UID:0-793@3097.bcfoe.com
DTSTART;TZID=America/Vancouver:20260305T174500
DTEND;TZID=America/Vancouver:20260305T220000
DTSTAMP:20260218T164927Z
URL:https://3097.bcfoe.com/events/mingo-march-5-545/
SUMMARY:MINGO ! March 5 - 5:45
DESCRIPTION:More Information HERE\n\n\nCome dressed in your favourite thrif
 ted outfit and show off your second-hand style! Whether it’s\nclassy\, f
 unky\, retro\, over-the-top\, or totally outrageous you make it as fun as 
 you want!\n\n\n Bonus! Everyone who comes dressed up will receive an entr
 y into a draw to win a prize! The more creative\, the better!\n
LOCATION:Fraternal Order Of Eagles 3097\, 1999\, 14 ave\,\, Campbell River\
 ,\, British Columbia\, V9W 2J6\, Canada
X-APPLE-STRUCTURED-LOCATION;VALUE=URI;X-ADDRESS=1999\, 14 ave\,\, Campbell 
 River\,\, British Columbia\, V9W 2J6\, Canada;X-APPLE-RADIUS=100;X-TITLE=F
 raternal Order Of Eagles 3097:geo:0,0
END:VEVENT
BEGIN:VTIMEZONE
TZID:America/Vancouver
X-LIC-LOCATION:America/Vancouver
BEGIN:STANDARD
DTSTART:20251102T010000
TZOFFSETFROM:-0700
TZOFFSETTO:-0800
TZNAME:PST
END:STANDARD
END:VTIMEZONE
END:VCALENDAR