BEGIN:VCALENDAR
VERSION:2.0
PRODID:-//wp-events-plugin.com//7.2.1//EN
TZID:America/Vancouver
X-WR-TIMEZONE:America/Vancouver
BEGIN:VEVENT
UID:0-808@3097.bcfoe.com
DTSTART;TZID=America/Vancouver:20260331T174500
DTEND;TZID=America/Vancouver:20260331T190000
DTSTAMP:20260329T161144Z
URL:https://3097.bcfoe.com/events/memrorial-tuesday-march-31/
SUMMARY:MEMORIAL TUESDAY MARCH 31
DESCRIPTION:March 31\, Tuesday … Annual Aerie &amp\; Auxiliary Memorial 
  … 6pm. In the Big Hall\n\nThis is a annual event held to honour our Br
 others &amp\; Sisters who have passed away this past year .  As the Cerem
 ony will start promptly at 6pm\, please arrive 10 – 15 minutes earlier t
 o be seated.  All are welcome to attend &amp\; encouraged to join in.
LOCATION:Fraternal Order Of Eagles 3097\, 1999\, 14 ave\,\, Campbell River\
 ,\, British Columbia\, V9W 2J6\, Canada
X-APPLE-STRUCTURED-LOCATION;VALUE=URI;X-ADDRESS=1999\, 14 ave\,\, Campbell 
 River\,\, British Columbia\, V9W 2J6\, Canada;X-APPLE-RADIUS=100;X-TITLE=F
 raternal Order Of Eagles 3097:geo:0,0
END:VEVENT
BEGIN:VTIMEZONE
TZID:America/Vancouver
X-LIC-LOCATION:America/Vancouver
BEGIN:DAYLIGHT
DTSTART:20260308T030000
TZOFFSETFROM:-0800
TZOFFSETTO:-0700
TZNAME:PDT
END:DAYLIGHT
END:VTIMEZONE
END:VCALENDAR