BEGIN:VCALENDAR
VERSION:2.0
PRODID:-//wp-events-plugin.com//7.2.1//EN
TZID:America/Vancouver
X-WR-TIMEZONE:America/Vancouver
BEGIN:VEVENT
UID:15-185@3097.bcfoe.com
DTSTART;TZID=America/Vancouver:20260218T100000
DTEND;TZID=America/Vancouver:20260218T110000
DTSTAMP:20251105T174139Z
URL:https://3097.bcfoe.com/events/line-dancing-mondays-wednesdays-9am-2026
 -02-18/
SUMMARY:LINE DANCING Mondays &amp\; Wednesdays 10 AM
DESCRIPTION:&nbsp\;\nIN THE BIG HALL 10 AM\n
LOCATION:Fraternal Order Of Eagles 3097\, 1999\, 14 ave\,\, Campbell River\
 ,\, British Columbia\, V9W 2J6\, Canada
X-APPLE-STRUCTURED-LOCATION;VALUE=URI;X-ADDRESS=1999\, 14 ave\,\, Campbell 
 River\,\, British Columbia\, V9W 2J6\, Canada;X-APPLE-RADIUS=100;X-TITLE=F
 raternal Order Of Eagles 3097:geo:0,0
END:VEVENT
BEGIN:VTIMEZONE
TZID:America/Vancouver
X-LIC-LOCATION:America/Vancouver
BEGIN:STANDARD
DTSTART:20251102T010000
TZOFFSETFROM:-0700
TZOFFSETTO:-0800
TZNAME:PST
END:STANDARD
END:VTIMEZONE
END:VCALENDAR