BEGIN:VCALENDAR
VERSION:2.0
PRODID:-//wp-events-plugin.com//7.2.1//EN
TZID:America/Vancouver
X-WR-TIMEZONE:America/Vancouver
BEGIN:VEVENT
UID:0-792@3097.bcfoe.com
DTSTART;TZID=America/Vancouver:20260227T203000
DTEND;TZID=America/Vancouver:20260227T233000
DTSTAMP:20260207T064506Z
URL:https://3097.bcfoe.com/events/green-river-feb-27/
SUMMARY:GREEN RIVER FEB 27
DESCRIPTION:TRIBUTE TO \nCREEDANCE CLEARWATER REVIVAL\nTICKETS AVALIABLE TH
 ROUGH\nEVENTBRITE\n\nYES\, FEBRUARY 27\, 2026\n&nbsp\;
LOCATION:Fraternal Order Of Eagles 3097\, 1999\, 14 ave\,\, Campbell River\
 ,\, British Columbia\, V9W 2J6\, Canada
X-APPLE-STRUCTURED-LOCATION;VALUE=URI;X-ADDRESS=1999\, 14 ave\,\, Campbell 
 River\,\, British Columbia\, V9W 2J6\, Canada;X-APPLE-RADIUS=100;X-TITLE=F
 raternal Order Of Eagles 3097:geo:0,0
END:VEVENT
BEGIN:VTIMEZONE
TZID:America/Vancouver
X-LIC-LOCATION:America/Vancouver
BEGIN:STANDARD
DTSTART:20251102T010000
TZOFFSETFROM:-0700
TZOFFSETTO:-0800
TZNAME:PST
END:STANDARD
END:VTIMEZONE
END:VCALENDAR