BEGIN:VCALENDAR
VERSION:2.0
PRODID:-//wp-events-plugin.com//7.2.1//EN
TZID:America/Vancouver
X-WR-TIMEZONE:America/Vancouver
BEGIN:VEVENT
UID:0-804@3097.bcfoe.com
DTSTART;TZID=America/Vancouver:20260329T130000
DTEND;TZID=America/Vancouver:20260329T150000
DTSTAMP:20260311T043121Z
URL:https://3097.bcfoe.com/events/grand-madam-president-march-29/
SUMMARY:Grand Madam President March 29
DESCRIPTION:We are pleased to host the Grand Madam President Rebecca Pelkey
  visitation on Sunday\, March 29.  There will be a luncheon at 1pm which 
 will consist of a cold plate costing $10.  This is open to all Aerie &amp
 \; LA Members.  Please let me know if you will be attending\, no later th
 an Tuesday\, March 24.\n\n Any questions please contact Marilyn at \n\nda
 lmar1@telus.net              or call  250-286-6854\n\n&nbsp\;
LOCATION:Fraternal Order Of Eagles 3097\, 1999\, 14 ave\,\, Campbell River\
 ,\, British Columbia\, V9W 2J6\, Canada
X-APPLE-STRUCTURED-LOCATION;VALUE=URI;X-ADDRESS=1999\, 14 ave\,\, Campbell 
 River\,\, British Columbia\, V9W 2J6\, Canada;X-APPLE-RADIUS=100;X-TITLE=F
 raternal Order Of Eagles 3097:geo:0,0
END:VEVENT
BEGIN:VTIMEZONE
TZID:America/Vancouver
X-LIC-LOCATION:America/Vancouver
BEGIN:DAYLIGHT
DTSTART:20260308T030000
TZOFFSETFROM:-0800
TZOFFSETTO:-0700
TZNAME:PDT
END:DAYLIGHT
END:VTIMEZONE
END:VCALENDAR