BEGIN:VCALENDAR
VERSION:2.0
PRODID:-//wp-events-plugin.com//7.2.1//EN
TZID:America/Vancouver
X-WR-TIMEZONE:America/Vancouver
BEGIN:VEVENT
UID:0-787@3097.bcfoe.com
DTSTART;TZID=America/Vancouver:20260425T190000
DTEND;TZID=America/Vancouver:20260425T213000
DTSTAMP:20260325T142322Z
URL:https://3097.bcfoe.com/events/garth-brooks-apr-25/
SUMMARY:Garth Brooks Apr 25
DESCRIPTION:April 25\, Saturday … Garth Brooks Tribute\n\nTickets  $25 e
 ach\n\nDoors open at 6pm\, show starts at 7pm.\n\nBar Service available.\n
 \nMore info contact Tyee Marine or calling Rod  250-203-8145  \n\nor Ev
 entbrite.\n\nor  facebook.com/voicesoflegends
LOCATION:Fraternal Order Of Eagles 3097\, 1999\, 14 ave\,\, Campbell River\
 ,\, British Columbia\, V9W 2J6\, Canada
X-APPLE-STRUCTURED-LOCATION;VALUE=URI;X-ADDRESS=1999\, 14 ave\,\, Campbell 
 River\,\, British Columbia\, V9W 2J6\, Canada;X-APPLE-RADIUS=100;X-TITLE=F
 raternal Order Of Eagles 3097:geo:0,0
END:VEVENT
BEGIN:VTIMEZONE
TZID:America/Vancouver
X-LIC-LOCATION:America/Vancouver
BEGIN:DAYLIGHT
DTSTART:20260308T030000
TZOFFSETFROM:-0800
TZOFFSETTO:-0700
TZNAME:PDT
END:DAYLIGHT
END:VTIMEZONE
END:VCALENDAR