BEGIN:VCALENDAR
VERSION:2.0
PRODID:-//wp-events-plugin.com//7.2.1//EN
TZID:America/Vancouver
X-WR-TIMEZONE:America/Vancouver
BEGIN:VEVENT
UID:0-378@3097.bcfoe.com
DTSTART;TZID=America/Vancouver:20260213T170000
DTEND;TZID=America/Vancouver:20260213T180000
DTSTAMP:20260212T045735Z
URL:https://3097.bcfoe.com/events/friday-night-dinners-in-june-2025-2025-0
 6-20/
SUMMARY:Friday Dinner Feb 13
DESCRIPTION:On the menu is meatloaf with mashed potatoes &amp\; gravy\, pea
 s &amp\; carrots\, green salad.\nAll this is only $12 for members &amp\; $
 15 for non-members.\nOh\, and for an additional $2 there is home made appl
 e pie for dessert.\nHow’s that for a deal of a meal!!\nHope to see you a
 ll there!
LOCATION:Fraternal Order Of Eagles 3097\, 1999\, 14 ave\,\, Campbell River\
 ,\, British Columbia\, V9W 2J6\, Canada
X-APPLE-STRUCTURED-LOCATION;VALUE=URI;X-ADDRESS=1999\, 14 ave\,\, Campbell 
 River\,\, British Columbia\, V9W 2J6\, Canada;X-APPLE-RADIUS=100;X-TITLE=F
 raternal Order Of Eagles 3097:geo:0,0
END:VEVENT
BEGIN:VTIMEZONE
TZID:America/Vancouver
X-LIC-LOCATION:America/Vancouver
BEGIN:STANDARD
DTSTART:20251102T010000
TZOFFSETFROM:-0700
TZOFFSETTO:-0800
TZNAME:PST
END:STANDARD
END:VTIMEZONE
END:VCALENDAR