BEGIN:VCALENDAR
VERSION:2.0
PRODID:-//wp-events-plugin.com//7.2.1//EN
TZID:America/Vancouver
X-WR-TIMEZONE:America/Vancouver
BEGIN:VEVENT
UID:0-377@3097.bcfoe.com
DTSTART;TZID=America/Vancouver:20250613T170000
DTEND;TZID=America/Vancouver:20250613T180000
DTSTAMP:20250610T033805Z
URL:https://3097.bcfoe.com/events/friday-night-dinners-in-june-2025-2025-0
 6-13/
SUMMARY:Friday Night Dinner June 13 Oven Roasted Chicken &amp\; Salad Bar
DESCRIPTION:\nOven Roasted Chicken &amp\; Salad Bar\n\nPlease call in or si
 gn in at the bar for your meal reservation\n50/50 and meat draw will take 
 place. TRY YOUR LUCK !\n&nbsp\;\n\n&nbsp\;\n\n&nbsp\;
LOCATION:Fraternal Order Of Eagles 3097\, 1999\, 14 ave\,\, Campbell River\
 ,\, British Columbia\, V9W 2J6\, Canada
X-APPLE-STRUCTURED-LOCATION;VALUE=URI;X-ADDRESS=1999\, 14 ave\,\, Campbell 
 River\,\, British Columbia\, V9W 2J6\, Canada;X-APPLE-RADIUS=100;X-TITLE=F
 raternal Order Of Eagles 3097:geo:0,0
END:VEVENT
BEGIN:VTIMEZONE
TZID:America/Vancouver
X-LIC-LOCATION:America/Vancouver
BEGIN:DAYLIGHT
DTSTART:20250309T030000
TZOFFSETFROM:-0800
TZOFFSETTO:-0700
TZNAME:PDT
END:DAYLIGHT
END:VTIMEZONE
END:VCALENDAR