BEGIN:VCALENDAR
VERSION:2.0
PRODID:-//wp-events-plugin.com//7.2.1//EN
TZID:America/Vancouver
X-WR-TIMEZONE:America/Vancouver
BEGIN:VEVENT
UID:0-780@3097.bcfoe.com
DTSTART;TZID=America/Vancouver:20260206T170000
DTEND;TZID=America/Vancouver:20260206T180000
DTSTAMP:20260204T200024Z
URL:https://3097.bcfoe.com/events/friday-dinner-feb-6-liver-onions/
SUMMARY:FRIDAY DINNER FEB 6 LIVER & ONIONS
DESCRIPTION:LIVER AND ONIONS  or\nSTUFFED YORKIES\nCost is $12 for Eagle 
 Members &amp\; $15 for Non-Members.  \nDinner is served in the little Hal
 l or in the Lounge …\nyour choice of where to sit.  Come early for the 
 best seats.\n\nPlease call in or sign in at the bar for your meal reservat
 ion\n250-287-4990\n\n50/50 and meat draw will take place. TRY YOUR LUCK !\
 nBy the way\, HELP is urgently needed to chair Friday Nite Dinners.\nIf
  you would like to take one on\,\nplease contact Franca a.s.a.p.  f_russo
 @shaw.ca\n&nbsp\;
LOCATION:Fraternal Order Of Eagles 3097\, 1999\, 14 ave\,\, Campbell River\
 ,\, British Columbia\, V9W 2J6\, Canada
X-APPLE-STRUCTURED-LOCATION;VALUE=URI;X-ADDRESS=1999\, 14 ave\,\, Campbell 
 River\,\, British Columbia\, V9W 2J6\, Canada;X-APPLE-RADIUS=100;X-TITLE=F
 raternal Order Of Eagles 3097:geo:0,0
END:VEVENT
BEGIN:VTIMEZONE
TZID:America/Vancouver
X-LIC-LOCATION:America/Vancouver
BEGIN:STANDARD
DTSTART:20251102T010000
TZOFFSETFROM:-0700
TZOFFSETTO:-0800
TZNAME:PST
END:STANDARD
END:VTIMEZONE
END:VCALENDAR