BEGIN:VCALENDAR
VERSION:2.0
PRODID:-//wp-events-plugin.com//7.2.1//EN
TZID:America/Vancouver
X-WR-TIMEZONE:America/Vancouver
BEGIN:VEVENT
UID:0-803@3097.bcfoe.com
DTSTART;TZID=America/Vancouver:20260424T170000
DTEND;TZID=America/Vancouver:20260424T180000
DTSTAMP:20260420T173014Z
URL:https://3097.bcfoe.com/events/friday-dinner-april-24/
SUMMARY:Friday Dinner April 24
DESCRIPTION:\n\nApril 24\, FRIDAY NITE DINNER … starts at 5pm\n\nThe Eagl
 e Riders have traded their chaps for aprons &amp\; are revving up their en
 gines in the kitchen\, cooking up a Steak Dinner with Baked Potato\, Carro
 ts &amp\; a Caesar Salad.  Cost is $18 for Members\, $20 for Non-Members.
   Advance tickets are needed for the dinner are available at the Bar.  P
 lease purchase them by Thursday.\n\n
LOCATION:Fraternal Order Of Eagles 3097\, 1999\, 14 ave\,\, Campbell River\
 ,\, British Columbia\, V9W 2J6\, Canada
X-APPLE-STRUCTURED-LOCATION;VALUE=URI;X-ADDRESS=1999\, 14 ave\,\, Campbell 
 River\,\, British Columbia\, V9W 2J6\, Canada;X-APPLE-RADIUS=100;X-TITLE=F
 raternal Order Of Eagles 3097:geo:0,0
END:VEVENT
BEGIN:VTIMEZONE
TZID:America/Vancouver
X-LIC-LOCATION:America/Vancouver
BEGIN:DAYLIGHT
DTSTART:20260308T030000
TZOFFSETFROM:-0800
TZOFFSETTO:-0700
TZNAME:PDT
END:DAYLIGHT
END:VTIMEZONE
END:VCALENDAR