BEGIN:VCALENDAR
VERSION:2.0
PRODID:-//wp-events-plugin.com//7.2.1//EN
TZID:America/Vancouver
X-WR-TIMEZONE:America/Vancouver
BEGIN:VEVENT
UID:0-768@3097.bcfoe.com
DTSTART;TZID=America/Vancouver:20260124T173000
DTEND;TZID=America/Vancouver:20260124T234500
DTSTAMP:20260112T013652Z
URL:https://3097.bcfoe.com/events/foe-3097-74th-anniversary-dinner/
SUMMARY:FOE 3097 74th Anniversary Dinner
DESCRIPTION:AERIE / AUXILIARY ANNIVERSARY DINNER &amp\; AWARDS\n\nSATURDAY\
 , January 24\n\nCOCKTAILS … 5:30pm\,  DINNER … 6pm.\n\nMUSIC … Doub
 leplay\n\nTICKETS … $30 for Members\, $35 for Non-Members\n\nPurchase ti
 ckets (in advance by January 20) by contacting:\n\n 	Franca cell  250-204
 - 3432or f_russo@shaw.ca\n 	Marilyn  dalmar1@telus.net\n\nA note from Ma
 rilyn … “The LA will be giving Year Pins at the Anniversary Dinner.  
 Anyone receiving a Pin will be notified but if you think you should be get
 ting a Pin &amp\; you are not contacted\, please let me know.”\n\n\n\nA 
 BIT OF FOE 3097 HISTORY\nCampbell River Aerie #3097 and The Ladies Auxilia
 ry received their FOE charters on December 9\, 1951. In 1954 purchase of t
 he property at 1999 14th ave took place followed by the construction of a 
 30 x 40 ft building which is now the lounge. Subsequent additions to the b
 uilding has now resulted in the 13000 sq ft facility containing the lounge
 \, games room\, kitchen\, two halls for rituals and rental to the public. 
 Other groups within 3097 are the Eagle Riders and Retired Eagle Activity C
 lub.\n\nThe 600 members of 3097 invite you to visit the Aerie\, learn of t
 he goodness the society has provided the region in our 74 years of operati
 on. Perhaps you have passion for giving back and consider a membership. Th
 ank You
LOCATION:Fraternal Order Of Eagles 3097\, 1999\, 14 ave\,\, Campbell River\
 ,\, British Columbia\, V9W 2J6\, Canada
X-APPLE-STRUCTURED-LOCATION;VALUE=URI;X-ADDRESS=1999\, 14 ave\,\, Campbell 
 River\,\, British Columbia\, V9W 2J6\, Canada;X-APPLE-RADIUS=100;X-TITLE=F
 raternal Order Of Eagles 3097:geo:0,0
END:VEVENT
BEGIN:VTIMEZONE
TZID:America/Vancouver
X-LIC-LOCATION:America/Vancouver
BEGIN:STANDARD
DTSTART:20251102T010000
TZOFFSETFROM:-0700
TZOFFSETTO:-0800
TZNAME:PST
END:STANDARD
END:VTIMEZONE
END:VCALENDAR