BEGIN:VCALENDAR
VERSION:2.0
PRODID:-//wp-events-plugin.com//7.2.1//EN
TZID:America/Vancouver
X-WR-TIMEZONE:America/Vancouver
BEGIN:VEVENT
UID:0-346@3097.bcfoe.com
DTSTART;TZID=America/Vancouver:20250622T090000
DTEND;TZID=America/Vancouver:20250622T210000
DTSTAMP:20250603T053447Z
URL:https://3097.bcfoe.com/events/eagle-riders-poker-run-june-22/
SUMMARY:EAGLE RIDERS POKER RUN JUNE 22
DESCRIPTION:\nCampbell River Poker Run June 22\, 2025Everyone Welcome to Jo
 in\nStop ATGriffin Pub\, Crown and Anchor Roadhouse Waverly Pub &amp\;  
 Petro Canada\, Horne Lake Rd\n\nRegistration opens at 9:00 AMBreakfast at 
 9:00 AM $10.00Dinner at 5:00 PM $15.00KICK STANDS UP  around 10:30 AM\n\n
 Cut Off Time is 5:00 PM\nno more cards after 5:00 PM\, if you are late\, y
 our cards will not be counted\n\nCharities going to:Campbell River Hospita
 l (cancer ward)Courtenay/Comox Hospital (cancer ward)Campbell River Search
  and Rescue\n\n\n
LOCATION:Fraternal Order Of Eagles\, 1999 14 Ave\, \, Campbell River\, V9W 
 4J2\, Canada
X-APPLE-STRUCTURED-LOCATION;VALUE=URI;X-ADDRESS=1999 14 Ave\, \, Campbell R
 iver\, V9W 4J2\, Canada;X-APPLE-RADIUS=100;X-TITLE=Fraternal Order Of Eagl
 es:geo:0,0
END:VEVENT
BEGIN:VTIMEZONE
TZID:America/Vancouver
X-LIC-LOCATION:America/Vancouver
BEGIN:DAYLIGHT
DTSTART:20250309T030000
TZOFFSETFROM:-0800
TZOFFSETTO:-0700
TZNAME:PDT
END:DAYLIGHT
END:VTIMEZONE
END:VCALENDAR