BEGIN:VCALENDAR
VERSION:2.0
PRODID:-//wp-events-plugin.com//7.2.1//EN
TZID:America/Vancouver
X-WR-TIMEZONE:America/Vancouver
BEGIN:VEVENT
UID:0-805@3097.bcfoe.com
DTSTART;TZID=America/Vancouver:20260314T170000
DTEND;TZID=America/Vancouver:20260314T220000
DTSTAMP:20260311T043940Z
URL:https://3097.bcfoe.com/events/dinner-march-14/
SUMMARY:Dinner March 14
DESCRIPTION:\nOn March 14 Our Provincial President Barbera Bell will be he
 re\nPlease come out and meet her and support our night.\nCocktails at 5pm 
 and dinner at 530 pm.\nDinner and Dance tickets are 25 bucks each.\nJust d
 inner and no dance the ticket is 10 bucks.\nBook by Tuesday March 10\nThe 
 Misko DJ will be doing the music in support of CR Search &amp\; rescue\nIt
  should be a fun night.\nTickets are on sale\, let Franca know. 250-204-34
 32\n\nHope to see you all there\n\n\n\n\n
LOCATION:Fraternal Order Of Eagles 3097\, 1999\, 14 ave\,\, Campbell River\
 ,\, British Columbia\, V9W 2J6\, Canada
X-APPLE-STRUCTURED-LOCATION;VALUE=URI;X-ADDRESS=1999\, 14 ave\,\, Campbell 
 River\,\, British Columbia\, V9W 2J6\, Canada;X-APPLE-RADIUS=100;X-TITLE=F
 raternal Order Of Eagles 3097:geo:0,0
END:VEVENT
BEGIN:VTIMEZONE
TZID:America/Vancouver
X-LIC-LOCATION:America/Vancouver
BEGIN:DAYLIGHT
DTSTART:20260308T030000
TZOFFSETFROM:-0800
TZOFFSETTO:-0700
TZNAME:PDT
END:DAYLIGHT
END:VTIMEZONE
END:VCALENDAR