BEGIN:VCALENDAR
VERSION:2.0
PRODID:-//wp-events-plugin.com//7.2.1//EN
TZID:America/Vancouver
X-WR-TIMEZONE:America/Vancouver
BEGIN:VEVENT
UID:0-786@3097.bcfoe.com
DTSTART;TZID=America/Vancouver:20260222T090000
DTEND;TZID=America/Vancouver:20260222T110000
DTSTAMP:20260201T173225Z
URL:https://3097.bcfoe.com/events/buffet-breakfast-feb-22-9am/
SUMMARY:BUFFET BREAKFAST Feb 22  9am
DESCRIPTION:February 22\, Sunday … EAGLES’ BUFFET BREAKFAST\nCOST … $
 15 Members\, $20 Non-Members\nTIME … 9am to 11am.\nCALL LOUNGE  250-287
 -4490  BY FRIDAY\, February 20\, IF ATTENDING\n“We hope to get the ‘
 One Sunday A Month Breakfast Buffet’ started again.”
LOCATION:Fraternal Order Of Eagles 3097\, 1999\, 14 ave\,\, Campbell River\
 ,\, British Columbia\, V9W 2J6\, Canada
X-APPLE-STRUCTURED-LOCATION;VALUE=URI;X-ADDRESS=1999\, 14 ave\,\, Campbell 
 River\,\, British Columbia\, V9W 2J6\, Canada;X-APPLE-RADIUS=100;X-TITLE=F
 raternal Order Of Eagles 3097:geo:0,0
END:VEVENT
BEGIN:VTIMEZONE
TZID:America/Vancouver
X-LIC-LOCATION:America/Vancouver
BEGIN:STANDARD
DTSTART:20251102T010000
TZOFFSETFROM:-0700
TZOFFSETTO:-0800
TZNAME:PST
END:STANDARD
END:VTIMEZONE
END:VCALENDAR