BEGIN:VCALENDAR
VERSION:2.0
PRODID:-//wp-events-plugin.com//7.2.1//EN
TZID:America/Vancouver
X-WR-TIMEZONE:America/Vancouver
BEGIN:VEVENT
UID:0-341@3097.bcfoe.com
DTSTART;TZID=America/Vancouver:20250604T000000
DTEND;TZID=America/Vancouver:20250604T000000
DTSTAMP:20250603T055507Z
URL:https://3097.bcfoe.com/events/bc-foe-convention-june-4-8-2025-06-04/
SUMMARY:BC FOE Convention June 4 - 8
DESCRIPTION:JUNE 4 TO JUNE 8\nBC PROVINCIAL CONVENTION AT CAMPBELL RIVER FO
 E 3097\n79th Annual Convention 2025\nCampbell River\, British Columbia Jun
 e 5\,6\, &amp\; 7th \nCONVENTION AGENDA\n\nJune 4/2025 Wednesday\, \n\n2
 pm - 6pm Registration in Eagles Hall lounge.\n\nTBA Ritual competition L
 adies\, Small Hall - time to be confirmed.\n1PM Golf tourney at Saratoga f
 ollowed by dinner at 6pm\, in small hall. \n5-6pm Burger and beverageavai
 lable in lounge\n7pm Executive meeting Aerie Small Hall\, Ladies auxiliar
 y Big Hall. \n\nJune 5/2025 Thursday\, \n\n9am - 11am registration\n9am 
 -10am Memorial practice big Hall.\n11am open ceremony sharp - big hall\n12
 - 12:45 lunch small hall\n1pm afternoon session L.A. big hall -  Aerie sm
 all hall\n4pm Memorial (Big Hall)\n5-6pm dinner in small hall\n6pm Provin
 cial Past Presidents dinner (big hall)\nafter dinner Aerie will go into sm
 all hall for their Entertainment will be in the lounge? \n\nJune 6/2025 F
 riday\, \n\n7-8:30 Breakfast small hall\n9am morning sessions (L.A. Big 
 Hall) Aerie (small)\n12 12:45 Lunch small hall\n1-4 afternoon sessions (sa
 me as morning)\n5:30 Banquet doors open\, Dinner around 6 and MCs to contr
 ol that night. \n\nJune 7/2025 Saturday \n\n7-8:30 Breakfast small hall\
 n7-9 elections if required in lounge game room.\n9am last sessions (L.A. B
 ig Hall) Aerie (small)\n12 12:45 Lunch small hall\n1pm Pictures at C.R. Lo
 dge or whatever the incoming want to arrange\n2pm installation New preside
 nt's food and beverage after installations\n5:30 doors open big hall\,New 
 president's celebration party  Dinner and the entertainment.\n\nJune 8/20
 25 Sunday\nBreakfast 8-9:30 small hall Goodbyes and save travels. 
LOCATION:Fraternal Order Of Eagles 3097\, 1999\, 14 ave\,\, Campbell River\
 ,\, British Columbia\, V9W 2J6\, Canada
X-APPLE-STRUCTURED-LOCATION;VALUE=URI;X-ADDRESS=1999\, 14 ave\,\, Campbell 
 River\,\, British Columbia\, V9W 2J6\, Canada;X-APPLE-RADIUS=100;X-TITLE=F
 raternal Order Of Eagles 3097:geo:0,0
END:VEVENT
BEGIN:VTIMEZONE
TZID:America/Vancouver
X-LIC-LOCATION:America/Vancouver
BEGIN:DAYLIGHT
DTSTART:20250309T030000
TZOFFSETFROM:-0800
TZOFFSETTO:-0700
TZNAME:PDT
END:DAYLIGHT
END:VTIMEZONE
END:VCALENDAR